BEGIN:VCALENDAR
VERSION:2.0
PRODID:-//Arany János Művelődési Központ - ECPv6.15.20//NONSGML v1.0//EN
CALSCALE:GREGORIAN
METHOD:PUBLISH
X-WR-CALNAME:Arany János Művelődési Központ
X-ORIGINAL-URL:https://ajmk.hu
X-WR-CALDESC:Események Arany János Művelődési Központ
REFRESH-INTERVAL;VALUE=DURATION:PT1H
X-Robots-Tag:noindex
X-PUBLISHED-TTL:PT1H
BEGIN:VTIMEZONE
TZID:Europe/Budapest
BEGIN:DAYLIGHT
TZOFFSETFROM:+0100
TZOFFSETTO:+0200
TZNAME:CEST
DTSTART:20250330T010000
END:DAYLIGHT
BEGIN:STANDARD
TZOFFSETFROM:+0200
TZOFFSETTO:+0100
TZNAME:CET
DTSTART:20251026T010000
END:STANDARD
BEGIN:DAYLIGHT
TZOFFSETFROM:+0100
TZOFFSETTO:+0200
TZNAME:CEST
DTSTART:20260329T010000
END:DAYLIGHT
BEGIN:STANDARD
TZOFFSETFROM:+0200
TZOFFSETTO:+0100
TZNAME:CET
DTSTART:20261025T010000
END:STANDARD
BEGIN:DAYLIGHT
TZOFFSETFROM:+0100
TZOFFSETTO:+0200
TZNAME:CEST
DTSTART:20270328T010000
END:DAYLIGHT
BEGIN:STANDARD
TZOFFSETFROM:+0200
TZOFFSETTO:+0100
TZNAME:CET
DTSTART:20271031T010000
END:STANDARD
END:VTIMEZONE
BEGIN:VEVENT
DTSTART;TZID=Europe/Budapest:20260424T130000
DTEND;TZID=Europe/Budapest:20260424T210000
DTSTAMP:20260424T123408
CREATED:20260324T132205Z
LAST-MODIFIED:20260420T122232Z
UID:1093-1777035600-1777064400@ajmk.hu
SUMMARY:MOZI az Arany János Művelődési Központban
DESCRIPTION:április 24.\n\nMOZI az Arany János Művelődési Központban \nRészletek hamarosan!\ninfo: mozgomozi.hu \n\n\n\n\n\n\nhelyszín: Arany János Művelődési Központ\, Tiszakécske Béke u. 140.
URL:https://ajmk.hu/event/mozi-az-arany-janos-muvelodesi-kozpontban-10/
LOCATION:Arany János Művelődési Központ\, Béke utca 140.\, Tiszakécske\, 6060\, Hungary
CATEGORIES:Mozi
ATTACH;FMTTYPE=image/webp:https://ajmk.hu/wp-content/uploads/2026/04/moziklub-web.webp
END:VEVENT
END:VCALENDAR